BEGIN:VCALENDAR
VERSION:2.0
PRODID:-//Arja Koriseva - ECPv6.15.20//NONSGML v1.0//EN
CALSCALE:GREGORIAN
METHOD:PUBLISH
X-ORIGINAL-URL:https://www.arjakoriseva.fi
X-WR-CALDESC:Tapahtumat Arja Koriseva
REFRESH-INTERVAL;VALUE=DURATION:PT1H
X-Robots-Tag:noindex
X-PUBLISHED-TTL:PT1H
BEGIN:VTIMEZONE
TZID:Europe/Helsinki
BEGIN:DAYLIGHT
TZOFFSETFROM:+0200
TZOFFSETTO:+0300
TZNAME:EEST
DTSTART:20250330T010000
END:DAYLIGHT
BEGIN:STANDARD
TZOFFSETFROM:+0300
TZOFFSETTO:+0200
TZNAME:EET
DTSTART:20251026T010000
END:STANDARD
BEGIN:DAYLIGHT
TZOFFSETFROM:+0200
TZOFFSETTO:+0300
TZNAME:EEST
DTSTART:20260329T010000
END:DAYLIGHT
BEGIN:STANDARD
TZOFFSETFROM:+0300
TZOFFSETTO:+0200
TZNAME:EET
DTSTART:20261025T010000
END:STANDARD
BEGIN:DAYLIGHT
TZOFFSETFROM:+0200
TZOFFSETTO:+0300
TZNAME:EEST
DTSTART:20270328T010000
END:DAYLIGHT
BEGIN:STANDARD
TZOFFSETFROM:+0300
TZOFFSETTO:+0200
TZNAME:EET
DTSTART:20271031T010000
END:STANDARD
END:VTIMEZONE
BEGIN:VEVENT
DTSTART;TZID=Europe/Helsinki:20260315T080000
DTEND;TZID=Europe/Helsinki:20260322T170000
DTSTAMP:20260419T230832
CREATED:20260115T185122Z
LAST-MODIFIED:20260115T185132Z
UID:2625-1773561600-1774198800@www.arjakoriseva.fi
SUMMARY:Korineum\, Kypros
DESCRIPTION:Artistivieraana Golfpassin matkalla\, pianisti Minna Lintukankaan kanssa
URL:https://www.arjakoriseva.fi/tapahtuma/korineum-kypros/
LOCATION:Korineum\, Kypros\, Cyprus
END:VEVENT
END:VCALENDAR