BEGIN:VCALENDAR
VERSION:2.0
PRODID:-//Arja Koriseva - ECPv6.15.20//NONSGML v1.0//EN
CALSCALE:GREGORIAN
METHOD:PUBLISH
X-ORIGINAL-URL:https://www.arjakoriseva.fi
X-WR-CALDESC:Tapahtumat Arja Koriseva
REFRESH-INTERVAL;VALUE=DURATION:PT1H
X-Robots-Tag:noindex
X-PUBLISHED-TTL:PT1H
BEGIN:VTIMEZONE
TZID:Europe/Helsinki
BEGIN:DAYLIGHT
TZOFFSETFROM:+0200
TZOFFSETTO:+0300
TZNAME:EEST
DTSTART:20250330T010000
END:DAYLIGHT
BEGIN:STANDARD
TZOFFSETFROM:+0300
TZOFFSETTO:+0200
TZNAME:EET
DTSTART:20251026T010000
END:STANDARD
BEGIN:DAYLIGHT
TZOFFSETFROM:+0200
TZOFFSETTO:+0300
TZNAME:EEST
DTSTART:20260329T010000
END:DAYLIGHT
BEGIN:STANDARD
TZOFFSETFROM:+0300
TZOFFSETTO:+0200
TZNAME:EET
DTSTART:20261025T010000
END:STANDARD
BEGIN:DAYLIGHT
TZOFFSETFROM:+0200
TZOFFSETTO:+0300
TZNAME:EEST
DTSTART:20270328T010000
END:DAYLIGHT
BEGIN:STANDARD
TZOFFSETFROM:+0300
TZOFFSETTO:+0200
TZNAME:EET
DTSTART:20271031T010000
END:STANDARD
END:VTIMEZONE
BEGIN:VEVENT
DTSTART;TZID=Europe/Helsinki:20260327T190000
DTEND;TZID=Europe/Helsinki:20260327T201500
DTSTAMP:20260419T182830
CREATED:20260115T185528Z
LAST-MODIFIED:20260115T185535Z
UID:2628-1774638000-1774642500@www.arjakoriseva.fi
SUMMARY:Ylläs\, Pyhän Laurin kappeli
DESCRIPTION:Liput ovelta 25€ tuntia ennen konsertin alkua
URL:https://www.arjakoriseva.fi/tapahtuma/yllas-pyhan-laurin-kappeli/
LOCATION:Pyhän Laurin Kappeli\, Äkäslompolo
END:VEVENT
END:VCALENDAR