BEGIN:VCALENDAR
VERSION:2.0
PRODID:-//Arja Koriseva - ECPv6.15.20//NONSGML v1.0//EN
CALSCALE:GREGORIAN
METHOD:PUBLISH
X-WR-CALNAME:Arja Koriseva
X-ORIGINAL-URL:https://www.arjakoriseva.fi
X-WR-CALDESC:Tapahtumat Arja Koriseva
REFRESH-INTERVAL;VALUE=DURATION:PT1H
X-Robots-Tag:noindex
X-PUBLISHED-TTL:PT1H
BEGIN:VTIMEZONE
TZID:Europe/Helsinki
BEGIN:DAYLIGHT
TZOFFSETFROM:+0200
TZOFFSETTO:+0300
TZNAME:EEST
DTSTART:20250330T010000
END:DAYLIGHT
BEGIN:STANDARD
TZOFFSETFROM:+0300
TZOFFSETTO:+0200
TZNAME:EET
DTSTART:20251026T010000
END:STANDARD
BEGIN:DAYLIGHT
TZOFFSETFROM:+0200
TZOFFSETTO:+0300
TZNAME:EEST
DTSTART:20260329T010000
END:DAYLIGHT
BEGIN:STANDARD
TZOFFSETFROM:+0300
TZOFFSETTO:+0200
TZNAME:EET
DTSTART:20261025T010000
END:STANDARD
BEGIN:DAYLIGHT
TZOFFSETFROM:+0200
TZOFFSETTO:+0300
TZNAME:EEST
DTSTART:20270328T010000
END:DAYLIGHT
BEGIN:STANDARD
TZOFFSETFROM:+0300
TZOFFSETTO:+0200
TZNAME:EET
DTSTART:20271031T010000
END:STANDARD
END:VTIMEZONE
BEGIN:VEVENT
DTSTART;TZID=Europe/Helsinki:20260707T180000
DTEND;TZID=Europe/Helsinki:20260707T200000
DTSTAMP:20260419T182647
CREATED:20260410T063844Z
LAST-MODIFIED:20260410T063852Z
UID:2855-1783447200-1783454400@www.arjakoriseva.fi
SUMMARY:Laivaranta Palas\, Padasjoki
DESCRIPTION:Yhteislauluilta\, liput 5€
URL:https://www.arjakoriseva.fi/tapahtuma/laivaranta-palas-padasjoki/
LOCATION:Laivaranta Palas\, Laivarannantie 41\, Padasjoki
END:VEVENT
END:VCALENDAR