BEGIN:VCALENDAR
VERSION:2.0
PRODID:-//Arja Koriseva - ECPv6.15.20//NONSGML v1.0//EN
CALSCALE:GREGORIAN
METHOD:PUBLISH
X-WR-CALNAME:Arja Koriseva
X-ORIGINAL-URL:https://www.arjakoriseva.fi
X-WR-CALDESC:Tapahtumat Arja Koriseva
REFRESH-INTERVAL;VALUE=DURATION:PT1H
X-Robots-Tag:noindex
X-PUBLISHED-TTL:PT1H
BEGIN:VTIMEZONE
TZID:Europe/Helsinki
BEGIN:DAYLIGHT
TZOFFSETFROM:+0200
TZOFFSETTO:+0300
TZNAME:EEST
DTSTART:20250330T010000
END:DAYLIGHT
BEGIN:STANDARD
TZOFFSETFROM:+0300
TZOFFSETTO:+0200
TZNAME:EET
DTSTART:20251026T010000
END:STANDARD
BEGIN:DAYLIGHT
TZOFFSETFROM:+0200
TZOFFSETTO:+0300
TZNAME:EEST
DTSTART:20260329T010000
END:DAYLIGHT
BEGIN:STANDARD
TZOFFSETFROM:+0300
TZOFFSETTO:+0200
TZNAME:EET
DTSTART:20261025T010000
END:STANDARD
BEGIN:DAYLIGHT
TZOFFSETFROM:+0200
TZOFFSETTO:+0300
TZNAME:EEST
DTSTART:20270328T010000
END:DAYLIGHT
BEGIN:STANDARD
TZOFFSETFROM:+0300
TZOFFSETTO:+0200
TZNAME:EET
DTSTART:20271031T010000
END:STANDARD
END:VTIMEZONE
BEGIN:VEVENT
DTSTART;TZID=Europe/Helsinki:20260724T170000
DTEND;TZID=Europe/Helsinki:20260724T180000
DTSTAMP:20260420T000437
CREATED:20260410T064810Z
LAST-MODIFIED:20260410T064819Z
UID:2862-1784912400-1784916000@www.arjakoriseva.fi
SUMMARY:Espan lava\, Helsinki
DESCRIPTION:Kesäinen ilmaiskonsertti Espalla
URL:https://www.arjakoriseva.fi/tapahtuma/espan-lava-helsinki/
LOCATION:Espan lava\, Pohjoisesplanadi 1\, Helsinki
END:VEVENT
BEGIN:VEVENT
DTSTART;TZID=Europe/Helsinki:20260726T160000
DTEND;TZID=Europe/Helsinki:20260726T180000
DTSTAMP:20260420T000437
CREATED:20260225T102330Z
LAST-MODIFIED:20260225T102338Z
UID:2677-1785081600-1785088800@www.arjakoriseva.fi
SUMMARY:Kuutinlahti\, Valkeala
DESCRIPTION:Ainutlaatuinen konsertti Kuutinlahdella\, veneen kannelta. Toisena solistina Kyösti Mäki-Mattila ja pianistina Minna Lintukangas
URL:https://www.arjakoriseva.fi/tapahtuma/kuutinlahti-valkeala/
LOCATION:Kuutinlahti\, Valkeala\, Valkeala
END:VEVENT
BEGIN:VEVENT
DTSTART;TZID=Europe/Helsinki:20260821T190000
DTEND;TZID=Europe/Helsinki:20260821T230000
DTSTAMP:20260420T000437
CREATED:20260410T065324Z
LAST-MODIFIED:20260410T065334Z
UID:2866-1787338800-1787353200@www.arjakoriseva.fi
SUMMARY:Pavi\, Vantaa
DESCRIPTION:
URL:https://www.arjakoriseva.fi/tapahtuma/pavi-vantaa/
LOCATION:Pavi\, Vantaa\, Pavintie 6\, Vantaa
END:VEVENT
BEGIN:VEVENT
DTSTART;TZID=Europe/Helsinki:20260829T080000
DTEND;TZID=Europe/Helsinki:20260829T170000
DTSTAMP:20260420T000437
CREATED:20260410T065529Z
LAST-MODIFIED:20260410T065616Z
UID:2869-1787990400-1788022800@www.arjakoriseva.fi
SUMMARY:Naapurinvaaran Huvikeskus\, Sotkamo
DESCRIPTION:
URL:https://www.arjakoriseva.fi/tapahtuma/naapurinvaaran-huvikeskus-sotkamo/
LOCATION:Naapurinvaara\, Sotkamo\, Naapurinvaarantie 20\, Vuokatti
END:VEVENT
END:VCALENDAR