BEGIN:VCALENDAR
VERSION:2.0
PRODID:-//Arja Koriseva - ECPv6.15.20//NONSGML v1.0//EN
CALSCALE:GREGORIAN
METHOD:PUBLISH
X-ORIGINAL-URL:https://www.arjakoriseva.fi
X-WR-CALDESC:Tapahtumat Arja Koriseva
REFRESH-INTERVAL;VALUE=DURATION:PT1H
X-Robots-Tag:noindex
X-PUBLISHED-TTL:PT1H
BEGIN:VTIMEZONE
TZID:Europe/Helsinki
BEGIN:DAYLIGHT
TZOFFSETFROM:+0200
TZOFFSETTO:+0300
TZNAME:EEST
DTSTART:20240331T010000
END:DAYLIGHT
BEGIN:STANDARD
TZOFFSETFROM:+0300
TZOFFSETTO:+0200
TZNAME:EET
DTSTART:20241027T010000
END:STANDARD
BEGIN:DAYLIGHT
TZOFFSETFROM:+0200
TZOFFSETTO:+0300
TZNAME:EEST
DTSTART:20250330T010000
END:DAYLIGHT
BEGIN:STANDARD
TZOFFSETFROM:+0300
TZOFFSETTO:+0200
TZNAME:EET
DTSTART:20251026T010000
END:STANDARD
BEGIN:DAYLIGHT
TZOFFSETFROM:+0200
TZOFFSETTO:+0300
TZNAME:EEST
DTSTART:20260329T010000
END:DAYLIGHT
BEGIN:STANDARD
TZOFFSETFROM:+0300
TZOFFSETTO:+0200
TZNAME:EET
DTSTART:20261025T010000
END:STANDARD
END:VTIMEZONE
BEGIN:VEVENT
DTSTART;TZID=Europe/Helsinki:20250906T190000
DTEND;TZID=Europe/Helsinki:20250906T230000
DTSTAMP:20260419T180838
CREATED:20250225T123928Z
LAST-MODIFIED:20250225T123934Z
UID:1687-1757185200-1757199600@www.arjakoriseva.fi
SUMMARY:Tanhuhovi\, Lohja
DESCRIPTION:
URL:https://www.arjakoriseva.fi/tapahtuma/tanhuhovi-lohja/
LOCATION:Tanhuhovi\, Lohja\, Lohja
END:VEVENT
BEGIN:VEVENT
DTSTART;TZID=Europe/Helsinki:20250905T200000
DTEND;TZID=Europe/Helsinki:20250905T200000
DTSTAMP:20260419T180838
CREATED:20250822T095708Z
LAST-MODIFIED:20250822T095714Z
UID:1794-1757102400-1757102400@www.arjakoriseva.fi
SUMMARY:Leppävirta\, Tulenliekki
DESCRIPTION:
URL:https://www.arjakoriseva.fi/tapahtuma/leppavirta-tulenliekki/
LOCATION:Tulenliekki\, Leppävirta
END:VEVENT
BEGIN:VEVENT
DTSTART;TZID=Europe/Helsinki:20250830T180000
DTEND;TZID=Europe/Helsinki:20250830T203000
DTSTAMP:20260419T180838
CREATED:20250225T123724Z
LAST-MODIFIED:20250516T060211Z
UID:1684-1756576800-1756585800@www.arjakoriseva.fi
SUMMARY:Leipää\, Lempee\, Lämpöö Juhlakonsertti\, Jaala-Areena
DESCRIPTION:Leipää\, Lempee ja Lämpöö 35 vuotta! \nTule mukaan juhlistamaan Arja Korisevan 35-vuotistaiteilijajuhlaa! Konserttikiertueella kautta maan kuullaan mm. Arjan omaa tuotantoa\, tulisia tangoja\, ikivihreitä ja musikaalisävelmiä vuosien varrelta.  Lavalla Arjan kanssa on upea viisihenkinen Fortuna-orkesteri. Tämä unohtumaton ilta tarjoaa musiikin riemua ja nostalgiaa\, joka kuljettaa kuulijat läpi aikojen musiikin sydämeen. \nMinna Lintukangas\, piano  \nMika Hakala – harmonikka\, kitara\, puhaltimet \nOlli Tanttu – kitara \nIlona Rimpilä- basso \nPetri Honkonen – rummut ja lyömäsoittimet \nSami Viitalo\, tekniikka \nYhteistyössä Bernard Massard
URL:https://www.arjakoriseva.fi/tapahtuma/leipaa-lempee-lampoo-juhlakonsertti-jaala-areena/
LOCATION:Jaala Areena\, Jaala
END:VEVENT
BEGIN:VEVENT
DTSTART;TZID=Europe/Helsinki:20250829T200000
DTEND;TZID=Europe/Helsinki:20250829T200000
DTSTAMP:20260419T180838
CREATED:20250225T123324Z
LAST-MODIFIED:20250225T123344Z
UID:1679-1756497600-1756497600@www.arjakoriseva.fi
SUMMARY:Pavi\, Helsinki
DESCRIPTION:
URL:https://www.arjakoriseva.fi/tapahtuma/pavi-helsinki/
LOCATION:Pavi\, Helsinki\, Helsinki
END:VEVENT
BEGIN:VEVENT
DTSTART;TZID=Europe/Helsinki:20250823T140000
DTEND;TZID=Europe/Helsinki:20250823T150000
DTSTAMP:20260419T180838
CREATED:20250415T074835Z
LAST-MODIFIED:20250819T124830Z
UID:1703-1755957600-1755961200@www.arjakoriseva.fi
SUMMARY:Elävä Maaseutu-messut\, Joroinen
DESCRIPTION:
URL:https://www.arjakoriseva.fi/tapahtuma/elava-maaseutu-messut-joroinen/
LOCATION:Lentokenttä\, Joroinen\, Joroinen
END:VEVENT
BEGIN:VEVENT
DTSTART;TZID=Europe/Helsinki:20250817T141500
DTEND;TZID=Europe/Helsinki:20250817T153000
DTSTAMP:20260419T180838
CREATED:20250811T054832Z
LAST-MODIFIED:20250811T055019Z
UID:1754-1755440100-1755444600@www.arjakoriseva.fi
SUMMARY:Oulu\, Luonnostaan-festivaali
DESCRIPTION:
URL:https://www.arjakoriseva.fi/tapahtuma/oulu-luonnostaan-festivaali/
LOCATION:Villa Hannala\, Oulu
END:VEVENT
BEGIN:VEVENT
DTSTART;TZID=Europe/Helsinki:20250816T200000
DTEND;TZID=Europe/Helsinki:20250816T200000
DTSTAMP:20260419T180838
CREATED:20250113T113442Z
LAST-MODIFIED:20250225T122026Z
UID:1647-1755374400-1755374400@www.arjakoriseva.fi
SUMMARY:Naapurinvaara\, Sotkamo
DESCRIPTION:
URL:https://www.arjakoriseva.fi/tapahtuma/naapurinvaara-sotkamo/
LOCATION:Naapurinvaara\, Sotkamo\, Naapurinvaarantie 20\, Vuokatti
END:VEVENT
BEGIN:VEVENT
DTSTART;TZID=Europe/Helsinki:20250815T183000
DTEND;TZID=Europe/Helsinki:20250815T193000
DTSTAMP:20260419T180838
CREATED:20250606T080250Z
LAST-MODIFIED:20250606T080250Z
UID:1729-1755282600-1755286200@www.arjakoriseva.fi
SUMMARY:Parafest\, Joensuu
DESCRIPTION:
URL:https://www.arjakoriseva.fi/tapahtuma/parafest-joensuu/
LOCATION:Parafest\, Joensuu\, Joensuu
END:VEVENT
BEGIN:VEVENT
DTSTART;TZID=Europe/Helsinki:20250808T190000
DTEND;TZID=Europe/Helsinki:20250808T201500
DTSTAMP:20260419T180838
CREATED:20250225T122550Z
LAST-MODIFIED:20250805T162129Z
UID:1676-1754679600-1754684100@www.arjakoriseva.fi
SUMMARY:Hirvensalmi\, kirkko
DESCRIPTION:Sinulle – Lauluista Voimaa \nKoskettava\, lämminhenkinen ja läsnäoleva kuvaavat tunnelmaa\, joka tavoittaa jokaisen kuulijan rakastetun viihdetaiteilija Arja Korisevan konserteissa. Konsertin ohjelmisto koostuu sekä tutuista ja perinteisistä\, että uudemmista lauluista Arjan omasta tuotannosta. Kappeleissa ja kirkoissa musiikki kutsuu rauhoittumaan ja pysähtymään hetkeksi omien ajatusten ja tunteiden äärelle\, antamaan hetken juuri Sinulle.  \nPianistina on Minna Lintukangas\, joka on konsertoinut ja luonut tunnelmaa monenlaisilla estradeilla yhdessä Arjan kanssa jo neljäntoista vuoden ajan. 
URL:https://www.arjakoriseva.fi/tapahtuma/hirvensalmi-kirkko/
LOCATION:Hirvensalmi\, kirkko\, Hirvensalmi
END:VEVENT
BEGIN:VEVENT
DTSTART;TZID=Europe/Helsinki:20250803T200000
DTEND;TZID=Europe/Helsinki:20250803T200000
DTSTAMP:20260419T180838
CREATED:20250225T122327Z
LAST-MODIFIED:20250225T122333Z
UID:1674-1754251200-1754251200@www.arjakoriseva.fi
SUMMARY:Tirvan lava\, Kouvola
DESCRIPTION:
URL:https://www.arjakoriseva.fi/tapahtuma/tirvan-lava-kouvola/
LOCATION:Tirvan lava\, Tirva\, Kouvola
END:VEVENT
BEGIN:VEVENT
DTSTART;TZID=Europe/Helsinki:20250802T180000
DTEND;TZID=Europe/Helsinki:20250802T191500
DTSTAMP:20260419T180838
CREATED:20250704T080844Z
LAST-MODIFIED:20250708T112502Z
UID:1737-1754157600-1754162100@www.arjakoriseva.fi
SUMMARY:Sysmän kirkko
DESCRIPTION:Konsertti Elämän Syliin. \nLiput ennakkoon Ticketmaster. \nPaikallisesti Sysmän kukkakauppa Kukkametsä Oy \nSysmäntie 49 19700 Sysmä\n03-7171054\n(25€) \n 
URL:https://www.arjakoriseva.fi/tapahtuma/sysman-kirkko/
LOCATION:Sysmän kirkko\, Kirkkokuja 1\, Sysmä
END:VEVENT
BEGIN:VEVENT
DTSTART;TZID=Europe/Helsinki:20250725T210000
DTEND;TZID=Europe/Helsinki:20250725T210000
DTSTAMP:20260419T180838
CREATED:20250529T120205Z
LAST-MODIFIED:20250529T120216Z
UID:1722-1753477200-1753477200@www.arjakoriseva.fi
SUMMARY:Rantapaviljonki\, Vaattojärvi
DESCRIPTION:Lavalle nousee iki-ihana Arja Koriseva\, Minna Lintukangas sekä Tuomo Ylitalon yhtye. \nLiput 20€\, kortti-/käteismaksu \nAnniskeluterassi\, kahvio ja makkaran myynti palvelevat. \nAlle 12-vuotiaat ovat tervetulleita  huoltajan kanssa. \nPidätämme oikeuden muutoksiin. \nTervetuloa viihtymään!
URL:https://www.arjakoriseva.fi/tapahtuma/rantapaviljonki-vaattojarvi/
LOCATION:Rantapaviljonki\, Vaattojärvi
END:VEVENT
BEGIN:VEVENT
DTSTART;TZID=Europe/Helsinki:20250724T190000
DTEND;TZID=Europe/Helsinki:20250724T200000
DTSTAMP:20260419T180838
CREATED:20250529T115913Z
LAST-MODIFIED:20250529T115913Z
UID:1719-1753383600-1753387200@www.arjakoriseva.fi
SUMMARY:Saamelaiskulttuurikeskus Sajos\, Inari
DESCRIPTION:
URL:https://www.arjakoriseva.fi/tapahtuma/saamelaiskulttuurikeskus-sajos-inari/
LOCATION:Sajos\, Inari
END:VEVENT
BEGIN:VEVENT
DTSTART;TZID=Europe/Helsinki:20250717T190000
DTEND;TZID=Europe/Helsinki:20250717T200000
DTSTAMP:20260419T180838
CREATED:20250225T121917Z
LAST-MODIFIED:20250225T121929Z
UID:1669-1752778800-1752782400@www.arjakoriseva.fi
SUMMARY:Iskelmäviikko\, Kiuruvesi
DESCRIPTION:
URL:https://www.arjakoriseva.fi/tapahtuma/iskelmaviikko-kiuruvesi/
LOCATION:Kiuruvesi\, Iskelmäviikko\, Kiuruvesi
END:VEVENT
BEGIN:VEVENT
DTSTART;TZID=Europe/Helsinki:20250709T180000
DTEND;TZID=Europe/Helsinki:20250709T201500
DTSTAMP:20260419T180838
CREATED:20250606T074457Z
LAST-MODIFIED:20250709T073253Z
UID:1726-1752084000-1752092100@www.arjakoriseva.fi
SUMMARY:Leipää\, Lempee\, Lämpöö Juhlakonsertti\, Samppalinna\, Turku
DESCRIPTION:Konsertissa kuullaan Arjan omaa tuotantoa\, tulisia tangoja\, ikivihreitä ja musikaalisävelmiä vuosien varrelta.  Lavalla Arjan kanssa on upea viisihenkinen Fortuna-orkesteri. Tämä unohtumaton ilta tarjoaa musiikin riemua ja nostalgiaa\, joka kuljettaa kuulijat läpi aikojen musiikin sydämeen. \nMinna Lintukangas\, piano  \nMika Hakala – harmonikka\, kitara\, puhaltimet \nOlli Tanttu – kitara \nIlona Rimpilä- basso \nPetri Honkonen – rummut ja lyömäsoittimet \nYhteistyössä Bernard Massard
URL:https://www.arjakoriseva.fi/tapahtuma/leipaa-lempee-lampoo-juhlakonsertti-samppalinnam-kesateatteri/
LOCATION:Samppalinnan Kesäteatteri\, Turku\, Turku
END:VEVENT
BEGIN:VEVENT
DTSTART;TZID=Europe/Helsinki:20250530T180000
DTEND;TZID=Europe/Helsinki:20250530T190000
DTSTAMP:20260419T180838
CREATED:20250529T115453Z
LAST-MODIFIED:20250529T115457Z
UID:1716-1748628000-1748631600@www.arjakoriseva.fi
SUMMARY:Suven Avaus\, Joensuu
DESCRIPTION:
URL:https://www.arjakoriseva.fi/tapahtuma/suven-avaus-joensuu/
LOCATION:Laulurinne\, Joensuu
END:VEVENT
BEGIN:VEVENT
DTSTART;TZID=Europe/Helsinki:20250528T190000
DTEND;TZID=Europe/Helsinki:20250528T200000
DTSTAMP:20260419T180838
CREATED:20250516T060451Z
LAST-MODIFIED:20250516T060458Z
UID:1709-1748458800-1748462400@www.arjakoriseva.fi
SUMMARY:Lahen Suvivirsi
DESCRIPTION:Yhteislaulutilaisuus\, vapaa pääsy
URL:https://www.arjakoriseva.fi/tapahtuma/lahen-suvivirsi/
LOCATION:Lahti\, Satama\, Lahti
END:VEVENT
BEGIN:VEVENT
DTSTART;TZID=Europe/Helsinki:20250525T140000
DTEND;TZID=Europe/Helsinki:20250525T151500
DTSTAMP:20260419T180838
CREATED:20250225T121137Z
LAST-MODIFIED:20250225T121145Z
UID:1665-1748181600-1748186100@www.arjakoriseva.fi
SUMMARY:Kauhajoen kirkko
DESCRIPTION:Kevätkonsertti yhdessä Hannu Lehtosen kanssa. \nPianistina Minna Lintukangas \n 
URL:https://www.arjakoriseva.fi/tapahtuma/kauhajoen-kirkko/
LOCATION:Kauhajoki\, kirkko\, Kauhajoki
END:VEVENT
BEGIN:VEVENT
DTSTART;TZID=Europe/Helsinki:20250524T173000
DTEND;TZID=Europe/Helsinki:20250524T184500
DTSTAMP:20260419T180838
CREATED:20250225T120842Z
LAST-MODIFIED:20250225T120850Z
UID:1663-1748107800-1748112300@www.arjakoriseva.fi
SUMMARY:Kiihtelysvaaran kirkko
DESCRIPTION:Konsertti Kohti Kesää! \nKoskettava\, lämminhenkinen ja läsnäoleva kuvaavat tunnelmaa\, joka tavoittaa jokaisen kuulijan rakastetun viihdetaiteilija Arja Korisevan konserteissa. Konsertin ohjelmisto koostuu sekä tutuista ja perinteisistä\, että uudemmista lauluista Arjan omasta tuotannosta. Kappeleissa ja kirkoissa musiikki kutsuu rauhoittumaan ja pysähtymään hetkeksi omien ajatusten ja tunteiden äärelle\, antamaan hetken juuri Sinulle.  \nPianistina on Minna Lintukangas\, joka on konsertoinut ja luonut tunnelmaa monenlaisilla estradeilla yhdessä Arjan kanssa jo neljäntoista vuoden ajan. 
URL:https://www.arjakoriseva.fi/tapahtuma/kiihtelysvaaran-kirkko-2/
LOCATION:Kiihtelysvaaran kirkko\, Kiihtelysvaara
END:VEVENT
BEGIN:VEVENT
DTSTART;TZID=Europe/Helsinki:20250524T150000
DTEND;TZID=Europe/Helsinki:20250524T161500
DTSTAMP:20260419T180838
CREATED:20250225T120640Z
LAST-MODIFIED:20250225T120647Z
UID:1660-1748098800-1748103300@www.arjakoriseva.fi
SUMMARY:Kiihtelysvaaran kirkko
DESCRIPTION:Konsertti Kohti Kesää! \nKoskettava\, lämminhenkinen ja läsnäoleva kuvaavat tunnelmaa\, joka tavoittaa jokaisen kuulijan rakastetun viihdetaiteilija Arja Korisevan konserteissa. Konsertin ohjelmisto koostuu sekä tutuista ja perinteisistä\, että uudemmista lauluista Arjan omasta tuotannosta. Kappeleissa ja kirkoissa musiikki kutsuu rauhoittumaan ja pysähtymään hetkeksi omien ajatusten ja tunteiden äärelle\, antamaan hetken juuri Sinulle.  \nPianistina on Minna Lintukangas\, joka on konsertoinut ja luonut tunnelmaa monenlaisilla estradeilla yhdessä Arjan kanssa jo neljäntoista vuoden ajan. 
URL:https://www.arjakoriseva.fi/tapahtuma/kiihtelysvaaran-kirkko/
LOCATION:Kiihtelysvaaran kirkko\, Kiihtelysvaara
END:VEVENT
BEGIN:VEVENT
DTSTART;TZID=Europe/Helsinki:20250510T190000
DTEND;TZID=Europe/Helsinki:20250510T211500
DTSTAMP:20260419T180838
CREATED:20250225T120020Z
LAST-MODIFIED:20250225T120034Z
UID:1657-1746903600-1746911700@www.arjakoriseva.fi
SUMMARY:Madetoja-sali\, Oulu
DESCRIPTION:Suomalaisen musiikin legendan\, Jukka Kuoppamäen\, uraa juhlistetaan kiitoskonsertilla\, jossa solisteina esiintyvät Pepe Willberg\, Arja Koriseva\, Anna Hanski\, Antti Railio\, Inka Auhagen sekä Ville Liimatainen. Artistit nousevat lavalle yhdessä Mirka Dojanin johtaman orkesterin kanssa esittäen rakastetuimpia Jukka Kuoppamäen kappaleita hänen pitkän uransa varrelta.
URL:https://www.arjakoriseva.fi/tapahtuma/madetoja-sali-oulu/
LOCATION:Madetoja-sali\, Oulu\, Oulu
END:VEVENT
BEGIN:VEVENT
DTSTART;TZID=Europe/Helsinki:20250509T190000
DTEND;TZID=Europe/Helsinki:20250509T211500
DTSTAMP:20260419T180838
CREATED:20250225T115515Z
LAST-MODIFIED:20250225T115523Z
UID:1654-1746817200-1746825300@www.arjakoriseva.fi
SUMMARY:Sibeliustalo\, Lahti
DESCRIPTION:Suomalaisen musiikin legendan\, Jukka Kuoppamäen\, uraa juhlistetaan kiitoskonsertilla\, jossa solisteina esiintyvät Arja Koriseva\, Pepe Willberg\, Diandra\, Anna Hanski\, Antti Railio\, Anna Kuoppamäki\, Inka Auhagen sekä Ville Liimatainen. Artistit nousevat lavalle yhdessä Mirka Dojanin johtaman orkesterin kanssa esittäen rakastetuimpia Jukka Kuoppamäen kappaleita hänen pitkän uransa varrelta.
URL:https://www.arjakoriseva.fi/tapahtuma/sibeliustalo-lahti/
LOCATION:Sibeliustalo\, Lahti\, Lahti
END:VEVENT
BEGIN:VEVENT
DTSTART;TZID=Europe/Helsinki:20250429T180000
DTEND;TZID=Europe/Helsinki:20250429T200000
DTSTAMP:20260419T180838
CREATED:20250408T063448Z
LAST-MODIFIED:20250408T063912Z
UID:1696-1745949600-1745956800@www.arjakoriseva.fi
SUMMARY:Yhtenäiskoulu\, Palokka
DESCRIPTION:Konsertin solisteina Arja Koriseva ja Tomi Metsäketo. Ilmavoimien Big Band\, kapellimestarina Ville Paakkunainen. \nLiput 25€ \nEnnakkoliput: Palokan Keskuskulman kukka ja hautaus\, Raivaajantie 1. \nRyhmälippu (vähintään 10 henkeä) ennakkoon 20€/ lippu. \nhannu.paalimaki@gmail.com / puh 0403523567 \nLiput sisältävät Luonetjärven sotilaskotisisarien väliaikakahvit.
URL:https://www.arjakoriseva.fi/tapahtuma/yhtenaiskoulu-palokka/
LOCATION:Palokan Yhtenäiskoulu\, Palokka
END:VEVENT
BEGIN:VEVENT
DTSTART;TZID=Europe/Helsinki:20250427T210000
DTEND;TZID=Europe/Helsinki:20250428T200000
DTSTAMP:20260419T180838
CREATED:20250113T112919Z
LAST-MODIFIED:20250113T113044Z
UID:1645-1745787600-1745870400@www.arjakoriseva.fi
SUMMARY:Viking Grace\, Turku
DESCRIPTION:
URL:https://www.arjakoriseva.fi/tapahtuma/viking-grace-turku/
LOCATION:Viking Grace\, Turku
END:VEVENT
BEGIN:VEVENT
DTSTART;TZID=Europe/Helsinki:20250423T180000
DTEND;TZID=Europe/Helsinki:20250423T190000
DTSTAMP:20260419T180838
CREATED:20250415T075235Z
LAST-MODIFIED:20250415T075240Z
UID:1706-1745431200-1745434800@www.arjakoriseva.fi
SUMMARY:Paviljonki\, Jyväskylä
DESCRIPTION:Koko perheen konsertti: Pentti\, Arja ja Markan possu 23.4.\n\n\n\nHeikki Elo\, kapellimestari\nPentti Rasinkangas & Arja Koriseva\nJyväskylän musiikkiluokkien kuoro\, valm. Anne Federley\, Hanna Pitkänen ja Liisa Suokivi \n\n\n\n\n\n\n\n 
URL:https://www.arjakoriseva.fi/tapahtuma/paviljonki-jyvaskyla/
LOCATION:Paviljonki\, Jyväskylä\, Jyväskylä
END:VEVENT
END:VCALENDAR