BEGIN:VCALENDAR
VERSION:2.0
PRODID:-//Arja Koriseva - ECPv6.15.20//NONSGML v1.0//EN
CALSCALE:GREGORIAN
METHOD:PUBLISH
X-WR-CALNAME:Arja Koriseva
X-ORIGINAL-URL:https://www.arjakoriseva.fi
X-WR-CALDESC:Tapahtumat Arja Koriseva
REFRESH-INTERVAL;VALUE=DURATION:PT1H
X-Robots-Tag:noindex
X-PUBLISHED-TTL:PT1H
BEGIN:VTIMEZONE
TZID:Europe/Helsinki
BEGIN:DAYLIGHT
TZOFFSETFROM:+0200
TZOFFSETTO:+0300
TZNAME:EEST
DTSTART:20240331T010000
END:DAYLIGHT
BEGIN:STANDARD
TZOFFSETFROM:+0300
TZOFFSETTO:+0200
TZNAME:EET
DTSTART:20241027T010000
END:STANDARD
BEGIN:DAYLIGHT
TZOFFSETFROM:+0200
TZOFFSETTO:+0300
TZNAME:EEST
DTSTART:20250330T010000
END:DAYLIGHT
BEGIN:STANDARD
TZOFFSETFROM:+0300
TZOFFSETTO:+0200
TZNAME:EET
DTSTART:20251026T010000
END:STANDARD
BEGIN:DAYLIGHT
TZOFFSETFROM:+0200
TZOFFSETTO:+0300
TZNAME:EEST
DTSTART:20260329T010000
END:DAYLIGHT
BEGIN:STANDARD
TZOFFSETFROM:+0300
TZOFFSETTO:+0200
TZNAME:EET
DTSTART:20261025T010000
END:STANDARD
END:VTIMEZONE
BEGIN:VEVENT
DTSTART;TZID=Europe/Helsinki:20250423T180000
DTEND;TZID=Europe/Helsinki:20250423T190000
DTSTAMP:20260419T203830
CREATED:20250415T075235Z
LAST-MODIFIED:20250415T075240Z
UID:1706-1745431200-1745434800@www.arjakoriseva.fi
SUMMARY:Paviljonki\, Jyväskylä
DESCRIPTION:Koko perheen konsertti: Pentti\, Arja ja Markan possu 23.4.\n\n\n\nHeikki Elo\, kapellimestari\nPentti Rasinkangas & Arja Koriseva\nJyväskylän musiikkiluokkien kuoro\, valm. Anne Federley\, Hanna Pitkänen ja Liisa Suokivi \n\n\n\n\n\n\n\n 
URL:https://www.arjakoriseva.fi/tapahtuma/paviljonki-jyvaskyla/
LOCATION:Paviljonki\, Jyväskylä\, Jyväskylä
END:VEVENT
END:VCALENDAR